BEGIN:VCALENDAR
VERSION:2.0
PRODID:-//wp-events-plugin.com//7.2.3.1//EN
TZID:Europe/Stockholm
X-WR-TIMEZONE:Europe/Stockholm
BEGIN:VEVENT
UID:23@vinga.gugge.nu
DTSTART;TZID=Europe/Stockholm:20260826T000000
DTEND;TZID=Europe/Stockholm:20261202T000000
DTSTAMP:20260413T001906Z
URL:https://vinga.gugge.nu/events/lar-dig-squaredans-gratis-prova-pa/
SUMMARY:Lär dig squaredans - Gratis Prova på
DESCRIPTION:\nMainstream-kurs HT 2026\n\n\n\nMS-kurs\n\n\n\nVi startar en k
 urs på tisdagskvällar för dig som vill lära dig squaredans. Kursen bö
 rjar 29 auguti och pågår till 2 december november. ... sköter callandet
 . Vi börjar med två gratis Prova på tillfällen.\n\n\n\nDatum och tid:T
 isdagar 30 aug - 6 decKl 18:30-21:00 (inkl kaffepaus)Plats:Vingas lokaler\
 , Kyrkbytorget i GöteborgCallers/instruktörer:Vinga Gulsten och Calle Vi
 ngarockFörkunskap:Inga allsPris:500:- för hela terminen. De två första
  tillfällena är gratis.Swish: 123 401 74 48Övrigt:Fika finns att köpa
  till lågt pris.Frågor:Vinga Yellow Rockers\, tel 070-892 91 84info@ving
 a-sdc.orgFlyer:Flyer för utskrift\n
ATTACH;FMTTYPE=image/jpeg:https://media1.vinga.gugge.nu/2021/08/Kurser-e17
 71249157721.png
CATEGORIES:Squaredans,Vinga
LOCATION:Vinga Yellow Rockers\, Kyrkbytorget 5\, Göteborg\, Västra Götal
 and\, 41478\, Sverige
X-APPLE-STRUCTURED-LOCATION;VALUE=URI;X-ADDRESS=Kyrkbytorget 5\, Göteborg\
 , Västra Götaland\, 41478\, Sverige;X-APPLE-RADIUS=100;X-TITLE=Vinga Yel
 low Rockers:geo:0,0
END:VEVENT
BEGIN:VTIMEZONE
TZID:Europe/Stockholm
X-LIC-LOCATION:Europe/Stockholm
BEGIN:DAYLIGHT
DTSTART:20260329T030000
TZOFFSETFROM:+0100
TZOFFSETTO:+0200
TZNAME:CEST
END:DAYLIGHT
BEGIN:STANDARD
DTSTART:20261025T020000
TZOFFSETFROM:+0200
TZOFFSETTO:+0100
TZNAME:CET
END:STANDARD
END:VTIMEZONE
END:VCALENDAR