BEGIN:VCALENDAR
VERSION:2.0
PRODID:-//wp-events-plugin.com//7.2.3.1//EN
TZID:Europe/Stockholm
X-WR-TIMEZONE:Europe/Stockholm
BEGIN:VEVENT
UID:4@vinga.gugge.nu
DTSTART;TZID=Europe/Stockholm:20220830T183000
DTEND;TZID=Europe/Stockholm:20220830T210000
DTSTAMP:20220815T141443Z
URL:https://vinga.gugge.nu/events/nyborjarkurs-ht-22-2022-08-30/
SUMMARY:Nybörjarkurs HT 2022
DESCRIPTION:Vår nybörjarkurs går på tisdagskvällar med början den 30 
 augusti med Sten Götharson och Gugge Törnauist som instruktörer
ATTACH;FMTTYPE=image/jpeg:https://media1.vinga.gugge.nu/2022/03/basic.png
CATEGORIES:Squaredans
LOCATION:Vinga Yellow Rockers\, Kyrkbytorget 5\, Göteborg\, Västra Götal
 and\, 41478\, Sverige
X-APPLE-STRUCTURED-LOCATION;VALUE=URI;X-ADDRESS=Kyrkbytorget 5\, Göteborg\
 , Västra Götaland\, 41478\, Sverige;X-APPLE-RADIUS=100;X-TITLE=Vinga Yel
 low Rockers:geo:0,0
END:VEVENT
BEGIN:VTIMEZONE
TZID:Europe/Stockholm
X-LIC-LOCATION:Europe/Stockholm
BEGIN:DAYLIGHT
DTSTART:20220327T030000
TZOFFSETFROM:+0100
TZOFFSETTO:+0200
TZNAME:CEST
END:DAYLIGHT
END:VTIMEZONE
END:VCALENDAR